BEGIN:VCALENDAR
VERSION:2.0
PRODID:-//101 Referral Network - ECPv6.15.20//NONSGML v1.0//EN
CALSCALE:GREGORIAN
METHOD:PUBLISH
X-ORIGINAL-URL:https://101referralnetwork.com
X-WR-CALDESC:Events for 101 Referral Network
REFRESH-INTERVAL;VALUE=DURATION:PT1H
X-Robots-Tag:noindex
X-PUBLISHED-TTL:PT1H
BEGIN:VTIMEZONE
TZID:America/Phoenix
BEGIN:STANDARD
TZOFFSETFROM:-0700
TZOFFSETTO:-0700
TZNAME:MST
DTSTART:20220101T000000
END:STANDARD
END:VTIMEZONE
BEGIN:VEVENT
DTSTART;TZID=America/Phoenix:20231026T170000
DTEND;TZID=America/Phoenix:20231026T200000
DTSTAMP:20260420T162322
CREATED:20231026T131538Z
LAST-MODIFIED:20231026T131538Z
UID:8541-1698339600-1698350400@101referralnetwork.com
SUMMARY:Cocktails\, Costumes and Connections Party
DESCRIPTION:Business Professionals are invited to join in on the fun Thursday 10/26 at Blue Martini on High Street from 5:00pm-8pm for Cocktails\, Costumes and Connections.\nThis year The 101 Referral Network is teaming up with The Empowerment Networking Organization. with Jack DuChene and Phil Guinouard as well as with David Waltzer of Wicked Awesome Events\, to bring you one of Scottsdale’s Biggest Halloween Bashes!\nAttendees will enjoy:\n-Lots of network opportunities (bring lots of business cards)\n-Meeting some power networkers.\n-FREE admission\n-Happy Hour Drinks!\n-Happy Hour Food!\n-FREE raffle gifts\nto be given away to\n* the person bringing the most Guests\n* and wearing the best costume\nwhich will include\n2 Chromebooks\, 2 talkshow spots\, and more.\nRSVP today at https://www.facebook.com/events/1738421216580741?active_tab=about\nGreat news – Gem Ray from Scottsdale Nights will be stopping by so that you all can meet him.\nHi is involved with several restaurants/ clubs in the Scottsdale area.\nYou don’t want to miss meeting him!\nPlease share the event with your friends
URL:https://101referralnetwork.com/event/cocktails-costumes-and-connections-party/
LOCATION:BLUE MARTINI HIGH STREET\, 5455 E High St\, Phoenix\, 85054\, United States
END:VEVENT
END:VCALENDAR