BEGIN:VCALENDAR
VERSION:2.0
PRODID:-//101 Referral Network - ECPv6.15.20//NONSGML v1.0//EN
CALSCALE:GREGORIAN
METHOD:PUBLISH
X-WR-CALNAME:101 Referral Network
X-ORIGINAL-URL:https://101referralnetwork.com
X-WR-CALDESC:Events for 101 Referral Network
REFRESH-INTERVAL;VALUE=DURATION:PT1H
X-Robots-Tag:noindex
X-PUBLISHED-TTL:PT1H
BEGIN:VTIMEZONE
TZID:America/Phoenix
BEGIN:STANDARD
TZOFFSETFROM:-0700
TZOFFSETTO:-0700
TZNAME:MST
DTSTART:20250101T000000
END:STANDARD
END:VTIMEZONE
BEGIN:VEVENT
DTSTART;TZID=America/Phoenix:20260422T113000
DTEND;TZID=America/Phoenix:20260422T130000
DTSTAMP:20260424T023609
CREATED:20260419T194056Z
LAST-MODIFIED:20260419T194124Z
UID:8942-1776857400-1776862800@101referralnetwork.com
SUMMARY:The 101 Chandler Meeting
DESCRIPTION:BUSINESS OWNERS – join us for our 101 Chandler luncheon where you’ll introduce your business and build relationships with other like-minded Owners from Chandler and the surrounding area.\nWhere: Tuesday April 21The Park at Copper Creek -Chandler\nGuest Speakers:Leslie of The Park at Copper Creek.Nancy Winters – Legal ShieldRaquel Wilson – Forward Loans\nRSVP at https://www.facebook.com/events/985994530557546?active_tab=aboutHosts: Nancy Winters /Bryan Newman\nNo door feeGuests are invited twiceNo lunch requirement
URL:https://101referralnetwork.com/event/the-101-chandler-meeting-2/
LOCATION:The Park at Copper Creek\, 901 S 94th St\, Chandler\, AZ 85224\, Chandler\, AZ\, 85224
END:VEVENT
BEGIN:VEVENT
DTSTART;TZID=America/Phoenix:20260422T183000
DTEND;TZID=America/Phoenix:20260422T193000
DTSTAMP:20260424T023609
CREATED:20260416T151451Z
LAST-MODIFIED:20260419T195148Z
UID:8933-1776882600-1776886200@101referralnetwork.com
SUMMARY:The 101 Zoom Meeting
DESCRIPTION:Every Tuesday at 6:30pm \nJoin us for our weekly zoom meeting :where you can: \nIntroduce your business \nBuild solid relationships \nLearn about The 101 Referral Network and upcoming events. \nMeeting ID: 849 9101 8762\nPasscode: 316938
URL:https://101referralnetwork.com/event/the-101-zoom-meeting-4/
LOCATION:AZ
END:VEVENT
END:VCALENDAR